BEGIN:VCALENDAR
VERSION:2.0
PRODID:-//ChamberMaster//Event Calendar 2.0//EN
METHOD:PUBLISH
X-PUBLISHED-TTL:P3D
REFRESH-INTERVAL:P3D
CALSCALE:GREGORIAN
BEGIN:VEVENT
DTSTART:20201017T140000Z
DTEND:20201017T203000Z
X-MICROSOFT-CDO-ALLDAYEVENT:FALSE
SUMMARY:Zion United Church of Christ" 152 Years of Community-COVID-19 Testing and Food Give Away
DESCRIPTION:Zion United Church of Christ is celebrating 152 years of service in ministry to the community. To mark this awesome occasion we are hosting "Free Drive-Thru COVID-19 Testing." All are welcome to come and we will be distributing fresh food as well. This event is free and open to everyone. No appointment is needed familes are welcome with small children.
X-ALT-DESC;FMTTYPE=text/html:Zion United Church of Christ is celebrating 152 years of service in ministry to the community. To mark this awesome occasion we are hosting &quot\;Free Drive-Thru COVID-19 Testing.&quot\; All are welcome to come and we will be distributing fresh food as well. This event is free and open to everyone. No appointment is needed familes are welcome with small children.
LOCATION:5710 N. HWY 67 Florissant\, MO 63034
UID:e.1302.20123
SEQUENCE:3
DTSTAMP:20260425T211622Z
URL:https://public.greaternorthcountychamber.com/events/details/zion-united-church-of-christ-152-years-of-community-covid-19-testing-and-food-give-away-20123
END:VEVENT

END:VCALENDAR
