BEGIN:VCALENDAR
VERSION:2.0
PRODID:-//ChamberMaster//Event Calendar 2.0//EN
METHOD:PUBLISH
X-PUBLISHED-TTL:P3D
REFRESH-INTERVAL:P3D
CALSCALE:GREGORIAN
BEGIN:VEVENT
DTSTART:20240731T230000Z
DTEND:20240801T020000Z
X-MICROSOFT-CDO-ALLDAYEVENT:FALSE
SUMMARY:Wednesday Night Out Italian Street Festival
DESCRIPTION:Join us for an Italian Street Festival from Old Town Partners\, hosted by American Family Insurance: Paul Manganelli. The Italian Festival committee will have food and drinks for purchase. Amanda Dempsey with Guild Mortgage and Jessica Berchtold with Jess & Co. will also have Gelato and Italian Ice. Henke's will be providing drinks and Tom Kelly will be singing Italian Favorites!
X-ALT-DESC;FMTTYPE=text/html:Join us for an Italian Street Festival from Old Town Partners\, hosted by American Family Insurance: Paul Manganelli. The Italian Festival committee will have food and drinks for purchase. Amanda Dempsey with Guild Mortgage and Jessica Berchtold with Jess &amp\; Co. will also have Gelato and Italian Ice. Henke&#39\;s will be providing drinks and Tom Kelly will be singing Italian Favorites!
LOCATION:717 Rue. St. Francois\, Florissant\, MO 63031
UID:e.1302.21201
SEQUENCE:3
DTSTAMP:20260421T160626Z
URL:https://public.greaternorthcountychamber.com/events/details/wednesday-night-out-italian-street-festival-21201
END:VEVENT

END:VCALENDAR
