BEGIN:VCALENDAR
VERSION:2.0
PRODID:-//ChamberMaster//Event Calendar 2.0//EN
METHOD:PUBLISH
X-PUBLISHED-TTL:P3D
REFRESH-INTERVAL:P3D
CALSCALE:GREGORIAN
BEGIN:VEVENT
DTSTART:20201012T190000Z
DTEND:20201016T010000Z
X-MICROSOFT-CDO-ALLDAYEVENT:FALSE
SUMMARY:Virtual FAFSA Frenzy!
DESCRIPTION:Free\, professional online help to complete the Free Application for Federal Student Aid\n\n\n\nST. LOUIS (SEPT. 21\, 2020)   St. Louis Community College will host its annual FAFSA Frenzy to help students complete the Free Application for Federal Student Aid.\n\n \n\nFAFSA Frenzy is an opportunity for students to receive free professional help   with virtual appointments   to complete the application\, which is primarily used by federal\, state and institutional financial assistance programs to determine an individual's eligibility for grants\, loans\, work-study and scholarships. \n\n \n\nAny student\, regardless of the college they plan to attend\, is welcome to participate. Please RSVP to ensure an appointment.\n\n \n\nBe Prepared\n\nTo prepare for your FAFSA Frenzy appointment\, you'll need:\n\n \n\n	Student and parent Federal Student Aid identification information\n	Parent(s) 2019 taxes and 2019 W-2s\n	Student 2019 taxes and 2019 W-2s\n	Parent(s) Social Security card\n	Student Social Security card\n	List of schools to which you have applied\, been accepted to\, or are interested in attending\n\n \n\nSt. Louis Community College's school code is 002469.\n\n \n\nStudents can begin completing the Free Application for Federal Student Aid as early as Oct. 1. \n\n \n\nStudents who plan to take classes in spring or summer 2021 need to complete the 2020-2021 FAFSA. Students who plan to take classes in fall 2021 should complete the 2021-2022 FAFSA.
X-ALT-DESC;FMTTYPE=text/html:<em><span style="font-family:arial\,sans-serif\;"><span style="font-size:12.0pt\;">Free\, professional online help to complete the Free Application for Federal Student Aid</span></span></em><br />\n<br />\n<span style="font-family:arial\,sans-serif\;"><span style="font-size:12.0pt\;">ST. LOUIS (SEPT. 21\, 2020)</span></span><span style="font-family:arial\,sans-serif\;"> &ndash\; </span><span style="font-family:arial\,sans-serif\;"><span style="font-size:12.0pt\;">St. Louis Community College will host its annual FAFSA Frenzy to help students complete the Free Application for Federal Student Aid.</span></span><br />\n&nbsp\;<br />\n<span style="font-family:arial\,sans-serif\;"><span style="font-size:12.0pt\;">FAFSA Frenzy is an opportunity for students to receive free professional help &ndash\; with virtual appointments &ndash\; to complete the application\, which is primarily used by federal\, state and institutional financial assistance programs to determine an individual&rsquo\;s eligibility for grants\, loans\, work-study and scholarships. </span></span><br />\n&nbsp\;<br />\n<span style="font-family:arial\,sans-serif\;"><span style="font-size:12.0pt\;">Any student\, regardless of the college they plan to attend\, is welcome to participate. Please RSVP to ensure an appointment.</span></span><br />\n&nbsp\;<br />\n<strong><span style="font-family:arial\,sans-serif\;"><span style="font-size:12.0pt\;">Be Prepared</span></span></strong><br />\n<span style="font-family:arial\,sans-serif\;"><span style="font-size:12.0pt\;">To prepare for your FAFSA Frenzy appointment\, you&rsquo\;ll need:</span></span><br />\n&nbsp\;\n<ul>\n	<li><span style="font-family:arial\,sans-serif\;"><span style="font-size:12.0pt\;">Student and parent </span></span><a href="http://dhe.mo.gov/ppc/FSAID.php"><span style="font-family:arial\,sans-serif\;"><span style="font-size:12.0pt\;">Federal Student Aid identification</span></span></a><span style="font-family:arial\,sans-serif\;"><span style="font-size:12.0pt\;"> information</span></span></li>\n	<li><span style="font-family:arial\,sans-serif\;"><span style="font-size:12.0pt\;">Parent(s) 2019 taxes and 2019 W-2s</span></span></li>\n	<li><span style="font-family:arial\,sans-serif\;"><span style="font-size:12.0pt\;">Student 2019 taxes and 2019 W-2s</span></span></li>\n	<li><span style="font-family:arial\,sans-serif\;"><span style="font-size:12.0pt\;">Parent(s) Social Security card</span></span></li>\n	<li><span style="font-family:arial\,sans-serif\;"><span style="font-size:12.0pt\;">Student Social Security card</span></span></li>\n	<li><span style="font-family:arial\,sans-serif\;"><span style="font-size:12.0pt\;">List of schools to which you have applied\, been accepted to\, or are interested in attending</span></span></li>\n</ul>\n&nbsp\;<br />\n<span style="font-family:arial\,sans-serif\;"><span style="font-size:12.0pt\;">St. Louis Community College&rsquo\;s school code is <strong>002469</strong>.</span></span><br />\n&nbsp\;<br />\n<span style="font-family:arial\,sans-serif\;"><span style="font-size:12.0pt\;">Students can begin completing the Free Application for Federal Student Aid as early as Oct. 1. </span></span><br />\n&nbsp\;<br />\n<span style="font-family:arial\,sans-serif\;"><span style="font-size:12.0pt\;">Students who plan to take classes in spring or summer 2021 need to complete the 2020-2021 FAFSA. Students who plan to take classes in fall 2021 should complete the 2021-2022 FAFSA.</span></span>
LOCATION:STLCC-Florissant Valley Monday\, Oct. 12 2-4 p.m. Bobby Collins\, district manager\, financial aid RSVP via email to: bcollins77@stlcc.edu STLCC-Forest Park Tuesday\, Oct. 13 2-4 p.m. Philip Teare\, campus manager\, financial aid RSVP via email to: pteare@stlcc.edu STLCC-Meramec Wednesday\, Oct. 14 11 a.m.-1 p.m. Nicole Moore\, campus manager\, financial aid RSVP via email to: mcfinancialaid@stlcc.edu STLCC-Wildwood Thursday\, Oct. 15 6-8 p.m. Shantelle Harris\, lead financial aid counselor RSVP via email to: sharris328@stlcc.ed
UID:e.1302.20122
SEQUENCE:3
DTSTAMP:20260425T225633Z
URL:https://public.greaternorthcountychamber.com/events/details/virtual-fafsa-frenzy-20122
END:VEVENT

END:VCALENDAR
