BEGIN:VCALENDAR
VERSION:2.0
PRODID:-//ChamberMaster//Event Calendar 2.0//EN
METHOD:PUBLISH
X-PUBLISHED-TTL:P3D
REFRESH-INTERVAL:P3D
CALSCALE:GREGORIAN
BEGIN:VEVENT
DTSTART:20241019T210000Z
DTEND:20241020T010000Z
X-MICROSOFT-CDO-ALLDAYEVENT:FALSE
SUMMARY:V4A ANNUAL AFRICAN DINNER
DESCRIPTION:You are invited for a great event to meet and socialize with immigrants and refugees in our community. This year events is one unique and full of new surprises. We have great performance by the African Performing Arts showcasing the African dance\, drumming and fashion show.\n\n \n\nAll proceeds will go to support our programs for immigrants and refugees in St. Louis. \n\nPartner with us to write more stories . Watch Video
X-ALT-DESC;FMTTYPE=text/html:<div style="text-align:left"><span style="font-family:arial\,verdana\,helvetica\,sans-serif\; font-size:14px"><span style="font-family:arial\,verdana\,helvetica\,sans-serif\; font-size:14px">You are invited for a great event to meet and socialize with immigrants and refugees in our community. This year events is one unique and full of new surprises. We have great performance by the African Performing Arts showcasing the African dance\, drumming and fashion show.</span></span></div>\n\n<div style="text-align:left">&nbsp\;</div>\n\n<div style="text-align:left"><span style="font-family:arial\,verdana\,helvetica\,sans-serif\; font-size:14px"><span style="font-family:arial\,verdana\,helvetica\,sans-serif\; font-size:14px">All proceeds will go to support our programs for immigrants and refugees in St. Louis.&nbsp\;</span></span></div>\n\n<div style="text-align:left"><span style="font-family:arial\,verdana\,helvetica\,sans-serif\; font-size:14px"><span style="font-family:arial\,verdana\,helvetica\,sans-serif\; font-size:14px">Partner with us to write more stories . </span><a href="https://youtu.be/qNhqloFHF90" style="color: rgb(0\, 0\, 255)\; text-decoration: underline\;" target="_blank">Watch Video</a></span></div>\n\n<div style="text-align:left">&nbsp\;</div>\n
LOCATION:315 HOWDERSHELL RD. FLORISSANT\, MO 63042
UID:e.1302.18442
SEQUENCE:3
DTSTAMP:20260421T115354Z
URL:https://public.greaternorthcountychamber.com/events/details/v4a-annual-african-dinner-10-19-2024-18442
END:VEVENT

END:VCALENDAR
