BEGIN:VCALENDAR
VERSION:2.0
PRODID:-//ChamberMaster//Event Calendar 2.0//EN
METHOD:PUBLISH
X-PUBLISHED-TTL:P3D
REFRESH-INTERVAL:P3D
CALSCALE:GREGORIAN
BEGIN:VEVENT
DTSTART:20241107T180000Z
DTEND:20241203T130000Z
X-MICROSOFT-CDO-ALLDAYEVENT:FALSE
SUMMARY:Unable to attend the Nite of Stars Tickets? This is for you!
DESCRIPTION:Not able to attend the GNC Chamber's 2024 Nite of Stars Gala? \n\n\n\nYou can still be a part of the event and purchase a chance to win up to $5\,000!  \n\n\n\nPurchase your tickets no later than this Friday\, December 1st at 7 am and you will be in the drawing!  \n\n\n\nIf your ticket is drawn your ticket goes back in and you could win again!  We will call you to let you know if you are a winner!  \n\n\n\nTickets are  $25 a piece\, or get even more bang for your buck with 5 for $100!\n\n(a convenience fee is included for credit card payments)
X-ALT-DESC;FMTTYPE=text/html:<p --font-size:="" --line-height:="" class="cvGsUA direction-ltr align-center para-style-body" line-height:="" style="font-family: " yafcflbzsxg=""><span class="OYPEnA text-decoration-none text-strikethrough-none">Not able to attend the GNC Chamber&#39\;s 2024&nbsp\;Nite of Stars Gala?&nbsp\;<br />\n<br />\nYou can still be a part of the event and purchase a chance to win up to $5\,000!&nbsp\;&nbsp\;<br />\n<br />\nPurchase your tickets no later than this Friday\, December 1st at 7 am and you will be in the drawing!&nbsp\;&nbsp\;<br />\n<br />\nIf your ticket is drawn your ticket goes back in and you could win again!&nbsp\; We will call you to let you know if you are a winner!&nbsp\;&nbsp\;<br />\n<br />\nTickets are&nbsp\; $25 a piece\, or get even more bang for your buck with 5 for $100!<br />\n(a&nbsp\;</span>convenience fee is included for credit card payments)</p>\n
LOCATION:
UID:e.1302.21307
SEQUENCE:3
DTSTAMP:20260421T093348Z
URL:https://public.greaternorthcountychamber.com/events/details/unable-to-attend-the-nite-of-stars-tickets-this-is-for-you-21307
END:VEVENT

END:VCALENDAR
