BEGIN:VCALENDAR
VERSION:2.0
PRODID:-//ChamberMaster//Event Calendar 2.0//EN
METHOD:PUBLISH
X-PUBLISHED-TTL:P3D
REFRESH-INTERVAL:P3D
CALSCALE:GREGORIAN
BEGIN:VEVENT
DTSTART:20211115T013000Z
DTEND:20211115T033000Z
X-MICROSOFT-CDO-ALLDAYEVENT:FALSE
SUMMARY:The Marvelous Wonderettes
DESCRIPTION:Hawthorne Players presents the musical\, "The Marvelous Wonderettes\," at the Florissant Civic Center Theatre\, November 12 through 14.  This smash off-Broadway hit takes you to the 1958 Springfield High School prom where we meet Betty Jean\, Cindy Lou\, Missy\, and Suzy\, four girls with hopes and dreams as big as their crinoline skirts!  In Act Two\, the Wonderettes reunite to take the stage and perform at their ten-year reunion.  This delightful show features over 30 classic '50s and '60s hits that are bound to leave you smiling!
X-ALT-DESC;FMTTYPE=text/html:Hawthorne Players presents the musical\, &quot\;The Marvelous Wonderettes\,&quot\; at the Florissant Civic Center Theatre\, November 12 through 14.&nbsp\; This smash off-Broadway hit takes you to the 1958 Springfield High School prom where we meet Betty Jean\, Cindy Lou\, Missy\, and Suzy\, four girls with hopes and dreams as big as their crinoline skirts!&nbsp\; In Act Two\, the Wonderettes reunite to take the stage and perform at their ten-year reunion.&nbsp\; This delightful show features over 30 classic &#39\;50s and &#39\;60s hits that are bound to leave you smiling!
LOCATION:Florissant Civic Center Theatre
UID:e.1302.20333
SEQUENCE:3
DTSTAMP:20260425T000353Z
URL:https://public.greaternorthcountychamber.com/events/details/the-marvelous-wonderettes-11-14-2021-20333
END:VEVENT

END:VCALENDAR
