BEGIN:VCALENDAR
VERSION:2.0
PRODID:-//ChamberMaster//Event Calendar 2.0//EN
METHOD:PUBLISH
X-PUBLISHED-TTL:P3D
REFRESH-INTERVAL:P3D
CALSCALE:GREGORIAN
BEGIN:VEVENT
DTSTART:20241012T220000Z
DTEND:20241013T020000Z
X-MICROSOFT-CDO-ALLDAYEVENT:FALSE
SUMMARY:The Golden Homecoming
DESCRIPTION:The Golden Homecoming is a free community event tailored specifically for guests aged 55 and older. This delightful gathering provides an excellent opportunity for attendees to socialize and connect with peers while exploring a variety of community resources presented by our vendors. The event also features a silent auction aimed at supporting the JACCK Foundation for the Arts\, a noble cause dedicated to preserving and promoting the arts within our community. We warmly invite everyone in this age group to join us for an enriching and enjoyable experience that not only fosters camaraderie but also contributes to the cultural vitality of our community.
X-ALT-DESC;FMTTYPE=text/html:The Golden Homecoming is a free community event tailored specifically for guests aged 55 and older. This delightful gathering provides an excellent opportunity for attendees to socialize and connect with peers while exploring a variety of community resources presented by our vendors. The event also features a silent auction aimed at supporting the JACCK Foundation for the Arts\, a noble cause dedicated to preserving and promoting the arts within our community. We warmly invite everyone in this age group to join us for an enriching and enjoyable experience that not only fosters camaraderie but also contributes to the cultural vitality of our community.
LOCATION:JACCK Foundation for the Arts 20 Patterson Plaza Florissant\, MO 63031
UID:e.1302.21274
SEQUENCE:3
DTSTAMP:20260421T104048Z
URL:https://public.greaternorthcountychamber.com/events/details/the-golden-homecoming-21274
END:VEVENT

END:VCALENDAR
