BEGIN:VCALENDAR
VERSION:2.0
PRODID:-//ChamberMaster//Event Calendar 2.0//EN
METHOD:PUBLISH
X-PUBLISHED-TTL:P3D
REFRESH-INTERVAL:P3D
CALSCALE:GREGORIAN
BEGIN:VEVENT
DTSTART:20260619T153000Z
DTEND:20260619T170000Z
X-MICROSOFT-CDO-ALLDAYEVENT:FALSE
SUMMARY:The Cost of Senior Living
DESCRIPTION:This class is a supplement to 'Considering Senior Living?' in which we will talk about the cost of senior living and scenarios that might help you plan for a time when you might need senior living. We will review the types of senior living\, compare with living at home\, getting home help\, and some of the ways people pay for senior living.
X-ALT-DESC;FMTTYPE=text/html:This class is a supplement to &lsquo\;Considering Senior Living?&rsquo\; in which we will talk about the cost of senior living and scenarios that might help you plan for a time when you might need senior living. We will review the types of senior living\, compare with living at home\, getting home help\, and some of the ways people pay for senior living.
LOCATION:500 NW Plaza\, Suite 425
UID:e.1302.23680
SEQUENCE:3
DTSTAMP:20260421T092940Z
URL:https://public.greaternorthcountychamber.com/events/details/the-cost-of-senior-living-23680
END:VEVENT

END:VCALENDAR
