BEGIN:VCALENDAR
VERSION:2.0
PRODID:-//ChamberMaster//Event Calendar 2.0//EN
METHOD:PUBLISH
X-PUBLISHED-TTL:P3D
REFRESH-INTERVAL:P3D
CALSCALE:GREGORIAN
BEGIN:VEVENT
DTSTART:20220325T190000Z
DTEND:20220325T200000Z
X-MICROSOFT-CDO-ALLDAYEVENT:FALSE
SUMMARY:The Abundant Lotus Ribbon Cutting
DESCRIPTION:Join us for a ribbon cutting for The Abundant Lotus!
X-ALT-DESC;FMTTYPE=text/html:Join us for a ribbon cutting for The Abundant Lotus!
LOCATION:1121 N Layfayette 63031
UID:e.1302.20549
SEQUENCE:3
DTSTAMP:20260424T175829Z
URL:https://public.greaternorthcountychamber.com/events/details/the-abundant-lotus-ribbon-cutting-20549
END:VEVENT

END:VCALENDAR
