BEGIN:VCALENDAR
VERSION:2.0
PRODID:-//ChamberMaster//Event Calendar 2.0//EN
METHOD:PUBLISH
X-PUBLISHED-TTL:P3D
REFRESH-INTERVAL:P3D
CALSCALE:GREGORIAN
BEGIN:VEVENT
DTSTART:20210121T223000Z
DTEND:20210121T233000Z
X-MICROSOFT-CDO-ALLDAYEVENT:FALSE
SUMMARY:The 10 Biggest Retirement Mistakes and How to Avoid Them
DESCRIPTION:The 10 Biggest Retirement Mistakes and How to Avoid Them\n\nPresented by: Steve Robbins\n\n\n\nRSVP:\n\n314-839-4600\n\nsarah@steverobbinsonline.com\n\nwww.steverobbinsonline.com
X-ALT-DESC;FMTTYPE=text/html:<div style="text-align: center\;">The 10 Biggest Retirement Mistakes and How to Avoid Them<br />\nPresented by: Steve Robbins<br />\n<br />\nRSVP:<br />\n314-839-4600<br />\nsarah@steverobbinsonline.com<br />\nwww.steverobbinsonline.com</div>\n
LOCATION:Zoom
UID:e.1302.20235
SEQUENCE:3
DTSTAMP:20260425T161537Z
URL:https://public.greaternorthcountychamber.com/events/details/the-10-biggest-retirement-mistakes-and-how-to-avoid-them-20235
END:VEVENT

END:VCALENDAR
