BEGIN:VCALENDAR
VERSION:2.0
PRODID:-//ChamberMaster//Event Calendar 2.0//EN
METHOD:PUBLISH
X-PUBLISHED-TTL:P3D
REFRESH-INTERVAL:P3D
CALSCALE:GREGORIAN
BEGIN:VEVENT
DTSTART;VALUE=DATE:20241128
DTEND;VALUE=DATE:20241130
TRANSP:TRANSPARENT
X-MICROSOFT-CDO-ALLDAYEVENT:TRUE
SUMMARY:Thanksgiving Chamber Office Closed
DESCRIPTION:The Chamber office will be closed for the Thanksgiving Holiday
X-ALT-DESC;FMTTYPE=text/html:The Chamber office will be closed for the Thanksgiving Holiday
LOCATION:
UID:e.1302.21292
SEQUENCE:3
DTSTAMP:20260419T181857Z
URL:https://public.greaternorthcountychamber.com/events/details/thanksgiving-chamber-office-closed-21292
END:VEVENT

END:VCALENDAR
