BEGIN:VCALENDAR
VERSION:2.0
PRODID:-//ChamberMaster//Event Calendar 2.0//EN
METHOD:PUBLISH
X-PUBLISHED-TTL:P3D
REFRESH-INTERVAL:P3D
CALSCALE:GREGORIAN
BEGIN:VEVENT
DTSTART:20220617T160000Z
DTEND:20220617T170000Z
X-MICROSOFT-CDO-ALLDAYEVENT:FALSE
SUMMARY:Teague & Associates Ribbon Cutting
DESCRIPTION:Join us as we welcome new member\, Teague & Associates\, with a Ribbon Cutting!
X-ALT-DESC;FMTTYPE=text/html:Join us as we welcome new member\, Teague &amp\; Associates\, with a Ribbon Cutting!
LOCATION:720 N Highway 67 Florissant\, MO 63031
UID:e.1302.20650
SEQUENCE:3
DTSTAMP:20260424T132003Z
URL:https://public.greaternorthcountychamber.com/events/details/teague-associates-ribbon-cutting-20650
END:VEVENT

END:VCALENDAR
