BEGIN:VCALENDAR
VERSION:2.0
PRODID:-//ChamberMaster//Event Calendar 2.0//EN
METHOD:PUBLISH
X-PUBLISHED-TTL:P3D
REFRESH-INTERVAL:P3D
CALSCALE:GREGORIAN
BEGIN:VEVENT
DTSTART:20240808T150000Z
DTEND:20240808T180000Z
X-MICROSOFT-CDO-ALLDAYEVENT:FALSE
SUMMARY:Teacher Appreciation Night
DESCRIPTION:Welcome to our Third annual Teacher Appreciation Open House at Valley Industries. We are offering you an opportunity to come for a short tour\, enjoy a FREE lunch from a local food truck and get a $10.00 Gift Certificate to our Thrift Store.
X-ALT-DESC;FMTTYPE=text/html:<span style="color: rgb(66\, 66\, 66)\; font-family: Aptos\, sans-serif\; font-size: 14.6667px\;">Welcome to our Third annual Teacher Appreciation Open House at Valley Industries. We are offering you an opportunity to come for a short tour\, enjoy a FREE lunch from a local food truck and get a $10.00 Gift Certificate to our Thrift Store.&nbsp\;&nbsp\;</span>
LOCATION:143 B McDonnell Blvd. Hazelwood\, MO 63042
UID:e.1302.21198
SEQUENCE:3
DTSTAMP:20260421T133004Z
URL:https://public.greaternorthcountychamber.com/events/details/teacher-appreciation-night-21198
END:VEVENT

END:VCALENDAR
