BEGIN:VCALENDAR
VERSION:2.0
PRODID:-//ChamberMaster//Event Calendar 2.0//EN
METHOD:PUBLISH
X-PUBLISHED-TTL:P3D
REFRESH-INTERVAL:P3D
CALSCALE:GREGORIAN
BEGIN:VEVENT
DTSTART;VALUE=DATE:20240914
DTEND;VALUE=DATE:20240915
TRANSP:TRANSPARENT
X-MICROSOFT-CDO-ALLDAYEVENT:TRUE
SUMMARY:Suicide Prevention Softball Tournament
DESCRIPTION:Join us for the Suicide Prevention Softball Tournament on September 14th\, 2024. Mens\, COED\, and Senior teams welcome. S125 per team.
X-ALT-DESC;FMTTYPE=text/html:Join us for the Suicide Prevention Softball Tournament on September 14th\, 2024. Mens\, COED\, and Senior teams welcome. S125 per team.
LOCATION:St. Ferdinand Park
UID:e.1302.21241
SEQUENCE:3
DTSTAMP:20260421T120053Z
URL:https://public.greaternorthcountychamber.com/events/details/suicide-prevention-softball-tournament-21241
END:VEVENT

END:VCALENDAR
