BEGIN:VCALENDAR
VERSION:2.0
PRODID:-//ChamberMaster//Event Calendar 2.0//EN
METHOD:PUBLISH
X-PUBLISHED-TTL:P3D
REFRESH-INTERVAL:P3D
CALSCALE:GREGORIAN
BEGIN:VEVENT
DTSTART:20241118T183000Z
DTEND:20241118T223000Z
X-MICROSOFT-CDO-ALLDAYEVENT:FALSE
SUMMARY:STLCC Utility Assistance Event
DESCRIPTION:Join us to learn more about community assistance programs for utilities\, food\, and housing support services.\n\nMonday November 18th 12:30-4:30pm at the Meramec Gymnasium\, \n\nAll events are open to the community. In partnership with SARC\, Alltru Credit Union\, Ameren Missouri\, American Water\, CAASTLC\, LIHEAP\, Metropolitan Sewer District\, Oakstreet Health\, Spire\, St. Louis Area Food Bank\, St. Louis Metro\, SumnerOne\, Urban League\, and more! Space is limited please register here!
X-ALT-DESC;FMTTYPE=text/html:<p style="margin: 0px\; padding: 0px\; color: rgb(0\, 0\, 0)\; font-family: Arial\, Verdana\, Helvetica\, sans-serif\; font-size: 14px\; white-space-collapse: preserve\; text-align: center\;">Join us to learn more about community assistance programs for utilities\, food\, and housing support services.</p>\n\n<p style="margin: 0px\; padding: 0px\; color: rgb(0\, 0\, 0)\; font-family: Arial\, Verdana\, Helvetica\, sans-serif\; font-size: 14px\; white-space-collapse: preserve\; text-align: center\;"><span style="font-size:14px\;"><span style="font-weight: bold\;">Monday</span> </span><span style="font-weight: bold\;"><span style="font-size:14px\;">November 18th 12:30-4:30pm</span> at the Meramec Gymnasium\, </span></p>\n\n<p style="margin: 0px\; padding: 0px\; color: rgb(0\, 0\, 0)\; font-family: Arial\, Verdana\, Helvetica\, sans-serif\; font-size: 14px\; white-space-collapse: preserve\; text-align: center\;">All events are open to the community. In partnership with SARC\, Alltru Credit Union\, Ameren Missouri\, American Water\, CAASTLC\, LIHEAP\, Metropolitan Sewer District\, Oakstreet Health\, Spire\, St. Louis Area Food Bank\, St. Louis Metro\, SumnerOne\, Urban League\, and more! Space is limited please<span style="font-weight: bold\;"> </span><a data-link-type="web" href="https://forms.office.com/Pages/ResponsePage.aspx?id=_kvWTKGnBEOUexOTeXJionfp3IaMvMNEu2cFDlgE5xNURUM0M0xIWlNKWUpHTk00TDZUSVdCWUdEUy4u&amp\;origin=QRCode" rel="noopener noreferrer" style="color: rgb(233\, 76\, 58)\; font-weight: bold\;" target="_blank">register here</a><span style="color: rgb(233\, 76\, 58)\; font-weight: bold\;">!</span></p>\n
LOCATION:Meramec Gymnasium 11333 Big Bend Road Kirkwood\, MO 63122
UID:e.1302.21309
SEQUENCE:3
DTSTAMP:20260419T181438Z
URL:https://public.greaternorthcountychamber.com/events/details/stlcc-utility-assistance-event-21309
END:VEVENT

END:VCALENDAR
