BEGIN:VCALENDAR
VERSION:2.0
PRODID:-//ChamberMaster//Event Calendar 2.0//EN
METHOD:PUBLISH
X-PUBLISHED-TTL:P3D
REFRESH-INTERVAL:P3D
CALSCALE:GREGORIAN
BEGIN:VEVENT
DTSTART:20241214T190000Z
DTEND:20241214T220000Z
X-MICROSOFT-CDO-ALLDAYEVENT:FALSE
SUMMARY:St. Louis County Library Pop-up Market
DESCRIPTION:The Novel Creations Pop-Up Market Series was an immersive eight-week marketing accelerator designed to help budding entrepreneurs learn how to create\, promote\, and showcase their brands effectively. The library series was designed for creatives\, those artists\, artisans\, crafters\, hobbyists who wanted to take their marketing to the next level.\n\nFifty-nine vendors will unveil their enhanced marketing skills and awesome array of merchandise at a Holiday Pop Up Market at the Clark Family Branch on Saturday\, December 14\, from 1:00-4:00. Explore a delightful selection of handmade crafts\, unique gifts\, and local artisanal treats all while enjoying the cozy atmosphere of the Clark Family Branch. Don't miss this chance to support local creators and kick off your holiday season with joy and community spirit!
X-ALT-DESC;FMTTYPE=text/html:<p style="margin: 0px\; padding: 0px\; color: rgb(0\, 0\, 0)\; font-family: Arial\, Verdana\, Helvetica\, sans-serif\; font-size: 14px\; background-color: rgb(250\, 216\, 212)\;"><span style="font-size: 16px\; color: rgb(66\, 66\, 66)\; font-family: &quot\;Segoe UI&quot\;\, &quot\;Lucida Grande&quot\;\, Tahoma\, sans-serif\;">The&nbsp\;Novel&nbsp\;Creations&nbsp\;Pop-Up Market Series was an immersive eight-week marketing accelerator designed to help&nbsp\;budding entrepreneurs learn how to create\, promote\, and showcase their brands effectively. The library series&nbsp\;was&nbsp\;designed&nbsp\;for creatives\, those artists\, artisans\, crafters\, hobbyists who wanted to take their marketing to the next level.</span></p>\n\n<p style="margin: 0px\; padding: 0px\; color: rgb(0\, 0\, 0)\; font-family: Arial\, Verdana\, Helvetica\, sans-serif\; font-size: 14px\; background-color: rgb(250\, 216\, 212)\;"><span style="font-size: 16px\; color: rgb(66\, 66\, 66)\; font-family: &quot\;Segoe UI&quot\;\, &quot\;Lucida Grande&quot\;\, Tahoma\, sans-serif\;">Fifty-nine vendors will unveil their enhanced marketing skills and awesome array of merchandise at a Holiday Pop Up Market at the Clark Family Branch on&nbsp\;</span><span style="font-size: 16px\; color: rgb(66\, 66\, 66)\; font-family: &quot\;Segoe UI&quot\;\, &quot\;Lucida Grande&quot\;\, Tahoma\, sans-serif\; font-weight: bold\;">Saturday\, December 14\, from 1:00-4:00</span><span style="font-size: 16px\; color: rgb(66\, 66\, 66)\; font-family: &quot\;Segoe UI&quot\;\, &quot\;Lucida Grande&quot\;\, Tahoma\, sans-serif\;">. Explore a delightful selection of handmade crafts\, unique gifts\, and local artisanal treats&mdash\;all while enjoying the cozy atmosphere of the Clark Family Branch. Don&rsquo\;t miss this chance to support local creators and kick off your holiday season with joy and community spirit!</span></p>\n
LOCATION:Clark Family Branch 1640 S Lindbergh Blvd\, St. Louis\, MO 63131
UID:e.1302.21501
SEQUENCE:3
DTSTAMP:20260421T075821Z
URL:https://public.greaternorthcountychamber.com/events/details/st-louis-county-library-pop-up-market-21501
END:VEVENT

END:VCALENDAR
