BEGIN:VCALENDAR
VERSION:2.0
PRODID:-//ChamberMaster//Event Calendar 2.0//EN
METHOD:PUBLISH
X-PUBLISHED-TTL:P3D
REFRESH-INTERVAL:P3D
CALSCALE:GREGORIAN
BEGIN:VEVENT
DTSTART:20240309T160000Z
DTEND:20240309T190000Z
X-MICROSOFT-CDO-ALLDAYEVENT:FALSE
SUMMARY:St. Louis County Apprenticeship and Career Pathways Showcase
DESCRIPTION:Special School District is proud to co-host the 3rd annual St. Louis County Apprenticeship and Career Pathways Showcase with the Affton\, Pattonville\, and Rockwood school districts. Families and students in grades 6 through 12\, as well as recent graduates\, are invited to these FREE events to experience a variety of careers through interactive exhibits and discussions with industry professionals. \n\nSponsored by American Welding School\, the showcases will connect attendees to exciting and fulfilling job opportunities\, many requiring training instead of a traditional\, 4-year degree. Regional employers seeking young talent will be ready to share information and guidance about career pathways\, including healthcare\, advanced manufacturing\, construction\, information technology\, and public safety. Some industries will offer hands-on activities and opportunities to work with equipment to ensure students enjoy an immersive experience.\n\nEvents are planned for the following dates and locations:\n\n\n	\n	Saturday\, Feb. 24\, 10 AM to 1 PM\, at Eureka High School\n	\n	\n	Saturday\, March 2\, 10 AM to 1 PM\, North Tech High School\n	\n	\n	Saturday\, March 9\, 10 AM to 1 PM\, South Tech High School\n	\n\n\nCheck out the event page for more information.
X-ALT-DESC;FMTTYPE=text/html:<p><span style="background-color:transparent\; color:rgb(0\, 0\, 0)\; font-family:arial\,sans-serif\; font-size:11pt">Special School District is proud to co-host the 3rd annual St. Louis County Apprenticeship and Career Pathways Showcase with the Affton\, Pattonville\, and Rockwood school districts. Families and students in grades 6 through 12\, as well as recent graduates\, are invited to these FREE events to experience a variety of careers through interactive exhibits and discussions with industry professionals.&nbsp\;</span></p>\n\n<p><span style="background-color:transparent\; color:rgb(0\, 0\, 0)\; font-family:arial\,sans-serif\; font-size:11pt">Sponsored by American Welding School\, the showcases will connect attendees to exciting and fulfilling job opportunities\, many requiring training instead of a traditional\, 4-year degree. Regional employers seeking young talent will be ready to share information and guidance about career pathways\, including healthcare\, advanced manufacturing\, construction\, information technology\, and public safety. Some industries will offer hands-on activities and opportunities to work with equipment to ensure students enjoy an immersive experience.</span></p>\n\n<p><span style="background-color:transparent\; color:rgb(0\, 0\, 0)\; font-family:arial\,sans-serif\; font-size:11pt">Events are planned for the following dates and locations:</span></p>\n\n<ul>\n	<li>\n	<p><span style="background-color:transparent\; font-size:11pt">Saturday\, Feb. 24\, 10 AM to 1 PM\, at Eureka High School</span></p>\n	</li>\n	<li>\n	<p><span style="background-color:transparent\; font-size:11pt">Saturday\, March 2\, 10 AM to 1 PM\, North Tech High School</span></p>\n	</li>\n	<li>\n	<p><span style="background-color:transparent\; font-size:11pt">Saturday\, March 9\, 10 AM to 1 PM\, South Tech High School</span></p>\n	</li>\n</ul>\n\n<p><span style="background-color:transparent\; color:rgb(0\, 0\, 0)\; font-family:arial\,sans-serif\; font-size:11pt">Check out </span><a href="https://www.ssdmo.org/Page/1314" style="text-decoration-line: none\;"><span style="background-color:transparent\; color:rgb(17\, 85\, 204)\; font-family:arial\,sans-serif\; font-size:11pt">the event page</span></a><span style="background-color:transparent\; color:rgb(0\, 0\, 0)\; font-family:arial\,sans-serif\; font-size:11pt"> for more information.</span></p>\n\n<div>&nbsp\;</div>\n
LOCATION:Events are planned for the following dates and locations: Saturday\, Feb. 24\, 10 AM to 1 PM\, at Eureka High School Saturday\, March 2\, 10 AM to 1 PM\, North Tech High School Saturday\, March 9\, 10 AM to 1 PM\, South Tech High School Check out the event page for more information.
UID:e.1302.21142
SEQUENCE:3
DTSTAMP:20260421T215308Z
URL:https://public.greaternorthcountychamber.com/events/details/st-louis-county-apprenticeship-and-career-pathways-showcase-03-09-2024-21142
END:VEVENT

END:VCALENDAR
