BEGIN:VCALENDAR
VERSION:2.0
PRODID:-//ChamberMaster//Event Calendar 2.0//EN
METHOD:PUBLISH
X-PUBLISHED-TTL:P3D
REFRESH-INTERVAL:P3D
CALSCALE:GREGORIAN
BEGIN:VEVENT
DTSTART:20241005T150000Z
DTEND:20241005T180000Z
X-MICROSOFT-CDO-ALLDAYEVENT:FALSE
SUMMARY:St. Louis Community College Manufacturing & Trades Open House
DESCRIPTION:Whether you're a student exploring career paths\, a professional seeking to level up your expertise or a business owner ready to revitalize your workforce\, we're eager to connect with you!\n\n\n\nCenter for Workforce Innovation\n\nTake a tour\n\nSpeak to our faculty and instructors\n\nLearn about scholarships\n\nRegister for upcoming training classes\n\nLearn more about our new Advanced Manufacturing building opening in 2025
X-ALT-DESC;FMTTYPE=text/html:Whether you&rsquo\;re a student exploring career paths\, a professional seeking to level up your expertise or a business owner ready to revitalize your workforce\, we&rsquo\;re eager to connect with you!<br />\n<br />\nCenter for Workforce Innovation<br />\nTake a tour<br />\nSpeak to our faculty and instructors<br />\nLearn about scholarships<br />\nRegister for upcoming training classes<br />\nLearn more about our new Advanced Manufacturing building opening in 2025
LOCATION:Center for Workforce Innovation 3344 Pershall Road | Ferguson | 63135
UID:e.1302.21194
SEQUENCE:3
DTSTAMP:20260421T104526Z
URL:https://public.greaternorthcountychamber.com/events/details/st-louis-community-college-manufacturing-trades-open-house-21194
END:VEVENT

END:VCALENDAR
