BEGIN:VCALENDAR
VERSION:2.0
PRODID:-//ChamberMaster//Event Calendar 2.0//EN
METHOD:PUBLISH
X-PUBLISHED-TTL:P3D
REFRESH-INTERVAL:P3D
CALSCALE:GREGORIAN
BEGIN:VEVENT
DTSTART:20210323T143000Z
DTEND:20210323T153000Z
X-MICROSOFT-CDO-ALLDAYEVENT:FALSE
SUMMARY:Social Media Seminar
DESCRIPTION:Social Media Seminar\n\n\n\nQuestions about how to run your social media pages? Come learn a few things!
X-ALT-DESC;FMTTYPE=text/html:<div style="text-align: center\;">Social Media Seminar<br />\n<br />\nQuestions about how to run your social media pages? Come learn a few things!</div>\n
LOCATION:TBD
UID:e.1302.20243
SEQUENCE:3
DTSTAMP:20260425T124853Z
URL:https://public.greaternorthcountychamber.com/events/details/social-media-seminar-20243
END:VEVENT

END:VCALENDAR
