BEGIN:VCALENDAR
VERSION:2.0
PRODID:-//ChamberMaster//Event Calendar 2.0//EN
METHOD:PUBLISH
X-PUBLISHED-TTL:P3D
REFRESH-INTERVAL:P3D
CALSCALE:GREGORIAN
BEGIN:VEVENT
DTSTART:20200903T143000Z
DTEND:20200903T153000Z
X-MICROSOFT-CDO-ALLDAYEVENT:FALSE
SUMMARY:Social Media Seminar
DESCRIPTION:Join us for a Social Media Seminar!\n\n\n\nRegistration required. Register here:\n\nhttps://us02web.zoom.us/meeting/register/tZwsd-2vrzgrHdUyvTHrqdt-RwBXJ_dWavRj
X-ALT-DESC;FMTTYPE=text/html:Join us for a Social Media Seminar!<br />\n<br />\nRegistration required. Register here:<br />\n<a href="https://us02web.zoom.us/meeting/register/tZwsd-2vrzgrHdUyvTHrqdt-RwBXJ_dWavRj" target="_blank"><span style="background:white\;text-decoration:none\;text-underline:none\;"><span style="color:#0E71EB\;"><span style="font-family:helvetica\,sans-serif\;"><span style="font-size:10.5pt\;">https://us02web.zoom.us/meeting/register/tZwsd-2vrzgrHdUyvTHrqdt-RwBXJ_dWavRj</span></span></span></span></a>
LOCATION:Video chat via Zoom
UID:e.1302.19859
SEQUENCE:3
DTSTAMP:20260425T225159Z
URL:https://public.greaternorthcountychamber.com/events/details/social-media-seminar-19859
END:VEVENT

END:VCALENDAR
