BEGIN:VCALENDAR
VERSION:2.0
PRODID:-//ChamberMaster//Event Calendar 2.0//EN
METHOD:PUBLISH
X-PUBLISHED-TTL:P3D
REFRESH-INTERVAL:P3D
CALSCALE:GREGORIAN
BEGIN:VEVENT
DTSTART;VALUE=DATE:20241002
DTEND;VALUE=DATE:20241005
TRANSP:TRANSPARENT
X-MICROSOFT-CDO-ALLDAYEVENT:TRUE
SUMMARY:SLCL Small Business and Nonprofit Conference
DESCRIPTION:St. Louis County and St. Louis Public Libraries presents their annual free Small Business and Nonprofit conference on October 2-4th\, 2024. Engage in enlightened discussions led by library staff and esteemed partners\, uncovering key insights into owning a small business or running a nonprofit.
X-ALT-DESC;FMTTYPE=text/html:St. Louis County and St. Louis Public Libraries presents their annual free Small Business and Nonprofit conference on October 2-4th\, 2024. Engage in enlightened discussions led by library staff and esteemed partners\, uncovering key insights into owning a small business or running a nonprofit.&nbsp\;&nbsp\;
LOCATION:Tuesday Evening from 6-7:30pm at the Clark Family Branch at 1640 S. Lindbergh Blvd\, St. Louis\, MO 63131 Wednesday Programs from 10am-7pm will be held at The Central Library at 1301 Olive Street\, St. Louis\, MO 63103 Thursday programs form 10am-5:15pm will be held at the Clark Family Branch at 1640 S. Lindbergh Blvd\, St. Louis\, MO 63131 Friday Programs are Virtual 10am -5:15pm
UID:e.1302.21270
SEQUENCE:3
DTSTAMP:20260421T104400Z
URL:https://public.greaternorthcountychamber.com/events/details/slcl-small-business-and-nonprofit-conference-21270
END:VEVENT

END:VCALENDAR
