BEGIN:VCALENDAR
VERSION:2.0
PRODID:-//ChamberMaster//Event Calendar 2.0//EN
METHOD:PUBLISH
X-PUBLISHED-TTL:P3D
REFRESH-INTERVAL:P3D
CALSCALE:GREGORIAN
BEGIN:VEVENT
DTSTART:20241107T230000Z
DTEND:20241108T010000Z
X-MICROSOFT-CDO-ALLDAYEVENT:FALSE
SUMMARY:Sip and Shop At Fantastic Finds Upscale Resale
DESCRIPTION:Join us for a glass of wine\, light appetizers\, and fantastic shopping on November 7th from 5-7pm at Fantastic Finds Upscale Resale shop at 12778 Olive Blvd\, St. Louis\, MO 63141. Support the Assistance League of St. Louis and their community programs. Drawings for a Kate Spade bag and more prizes!
X-ALT-DESC;FMTTYPE=text/html:<span style="color: rgb(0\, 0\, 0)\; font-family: Arial\, Verdana\, Helvetica\, sans-serif\; font-size: 14px\; white-space-collapse: preserve\;">Join us for a glass of wine\, light appetizers\, and fantastic shopping on </span><span style="color: rgb(0\, 0\, 0)\; font-family: Arial\, Verdana\, Helvetica\, sans-serif\; font-size: 14px\; white-space-collapse: preserve\; font-weight: bold\;">November 7th from 5-7pm</span><span style="color: rgb(0\, 0\, 0)\; font-family: Arial\, Verdana\, Helvetica\, sans-serif\; font-size: 14px\; white-space-collapse: preserve\;"> at Fantastic Finds Upscale Resale shop at 12778 Olive Blvd\, St. Louis\, MO 63141. Support the Assistance League of St. Louis and their community programs. Drawings for a Kate Spade bag and more prizes!</span>
LOCATION:Fantastic Finds Upscale Resale 12778 Olive Blvd\, St. Louis\, MO 63141
UID:e.1302.21300
SEQUENCE:3
DTSTAMP:20260419T182217Z
URL:https://public.greaternorthcountychamber.com/events/details/sip-and-shop-at-fantastic-finds-upscale-resale-21300
END:VEVENT

END:VCALENDAR
