BEGIN:VCALENDAR
VERSION:2.0
PRODID:-//ChamberMaster//Event Calendar 2.0//EN
METHOD:PUBLISH
X-PUBLISHED-TTL:P3D
REFRESH-INTERVAL:P3D
CALSCALE:GREGORIAN
BEGIN:VEVENT
DTSTART:20241006T003000Z
DTEND:20241006T020000Z
X-MICROSOFT-CDO-ALLDAYEVENT:FALSE
SUMMARY:She Loves Me
DESCRIPTION:SHE LOVES ME Book by Joe Masteroff Music by Jerry Bock & Lyrics by Sheldon Harnick Oct 4 at 7:30pm and Oct 5 at 2pm Oct 11 & 12 at 7:30pm and Oct 13 at 2pm A romantic\, effervescent\, & witty musical comedy by the creators of Fiddler on the Roof! In a charming 1930?s perfume shop\, two salesclerks spar endlessly\, saving their sweetest words for an anonymous pen pal. Unbeknownst to them\, their ?dear friend? happens to be each other! Featuring the joyful title song and other melt-your-heart songs\, you can leave your worries behind and step into this world of perfume\, letters and love. Ticket Prices: Adult - $25 | Senior 62+ and students - $23 | Group of 8+ - $20 Tickets can be purchased by calling 314-921-5678 or by visiting FlorissantPAC.com (Must call for group tickets.)
X-ALT-DESC;FMTTYPE=text/html:SHE LOVES ME Book by Joe Masteroff Music by Jerry Bock &amp\; Lyrics by Sheldon Harnick Oct 4 at 7:30pm and Oct 5 at 2pm Oct 11 &amp\; 12 at 7:30pm and Oct 13 at 2pm A romantic\, effervescent\, &amp\; witty musical comedy by the creators of Fiddler on the Roof! In a charming 1930?s perfume shop\, two salesclerks spar endlessly\, saving their sweetest words for an anonymous pen pal. Unbeknownst to them\, their ?dear friend? happens to be each other! Featuring the joyful title song and other melt-your-heart songs\, you can leave your worries behind and step into this world of perfume\, letters and love. Ticket Prices: Adult - $25 | Senior 62+ and students - $23 | Group of 8+ - $20 Tickets can be purchased by calling 314-921-5678 or by visiting FlorissantPAC.com (Must call for group tickets.)
LOCATION:Florissant Performing Arts Center 1 James J Eagan Dr Florissant\, MO 63033
UID:e.1302.21260
SEQUENCE:3
DTSTAMP:20260421T114343Z
URL:https://public.greaternorthcountychamber.com/events/details/she-loves-me-10-05-2024-21260
END:VEVENT

END:VCALENDAR
