BEGIN:VCALENDAR
VERSION:2.0
PRODID:-//ChamberMaster//Event Calendar 2.0//EN
METHOD:PUBLISH
X-PUBLISHED-TTL:P3D
REFRESH-INTERVAL:P3D
CALSCALE:GREGORIAN
BEGIN:VEVENT
DTSTART:20241109T000000Z
DTEND:20241109T040000Z
X-MICROSOFT-CDO-ALLDAYEVENT:FALSE
SUMMARY:Rotary Club of Florissant 46th Annual Charity Dinner & Auction
DESCRIPTION:Join us for the 46th Annual Charity and Dinner Auction hosted by the Rotary Club of Florissant on Friday November 8th\, 2024 from 6pm-10pm located at the Celebration Hall of the JFK Community Center at 315 Howdershell Rd. Florissant\, MO 63031
X-ALT-DESC;FMTTYPE=text/html:Join us for the 46th Annual Charity and Dinner Auction hosted by the Rotary Club of Florissant on Friday November 8th\, 2024 from 6pm-10pm located at the Celebration Hall of the JFK Community Center at 315 Howdershell Rd. Florissant\, MO 63031
LOCATION:Celebration Hall of the JFK Community Center at 315 Howdershell Rd. Florissant\, MO 63031
UID:e.1302.21285
SEQUENCE:3
DTSTAMP:20260419T182325Z
URL:https://public.greaternorthcountychamber.com/events/details/rotary-club-of-florissant-46th-annual-charity-dinner-auction-21285
END:VEVENT

END:VCALENDAR
