BEGIN:VCALENDAR
VERSION:2.0
PRODID:-//ChamberMaster//Event Calendar 2.0//EN
METHOD:PUBLISH
X-PUBLISHED-TTL:P3D
REFRESH-INTERVAL:P3D
CALSCALE:GREGORIAN
BEGIN:VEVENT
DTSTART:20221001T003000Z
DTEND:20221001T023000Z
X-MICROSOFT-CDO-ALLDAYEVENT:FALSE
SUMMARY:Ripcord
DESCRIPTION:The Alpha Players presents a comedy about living and giving! Have you ever had a roommate you couldn't stand? A sunny room on an upper floor is prime real estate in the Bristol Place Senior Living Facility. When cantankerous Abby is forced to share her room with new-arrival Marilyn\, she has no choice but to get rid of the infuriatingly chipper woman by any means necessary. A seemingly harmless bet between the two women quickly escalates into a comedic game of one-upmanship which reveals the tenacity of these worthy opponents. Presented by arrangement with Broadway Licensing LLC servicing Dramatists Play Service Collection.
X-ALT-DESC;FMTTYPE=text/html:The Alpha Players presents a comedy about living and giving! Have you ever had a roommate you couldn&rsquo\;t stand? A sunny room on an upper floor is prime real estate in the Bristol Place Senior Living Facility. When cantankerous Abby is forced to share her room with new-arrival Marilyn\, she has no choice but to get rid of the infuriatingly chipper woman by any means necessary. A seemingly harmless bet between the two women quickly escalates into a comedic game of one-upmanship which reveals the tenacity of these worthy opponents. Presented by arrangement with Broadway Licensing LLC servicing Dramatists Play Service Collection.
LOCATION:Florissant Civic Center Theatre 1 James J. Eagan Drive Florissant\, MO 63033
UID:e.1302.20662
SEQUENCE:3
DTSTAMP:20260422T212646Z
URL:https://public.greaternorthcountychamber.com/events/details/ripcord-20662
END:VEVENT

END:VCALENDAR
