BEGIN:VCALENDAR
VERSION:2.0
PRODID:-//ChamberMaster//Event Calendar 2.0//EN
METHOD:PUBLISH
X-PUBLISHED-TTL:P3D
REFRESH-INTERVAL:P3D
CALSCALE:GREGORIAN
BEGIN:VEVENT
DTSTART:20240413T150000Z
DTEND:20240413T190000Z
X-MICROSOFT-CDO-ALLDAYEVENT:FALSE
SUMMARY:Ride Into Spring In Old Town Florissant
DESCRIPTION:Come to Historic Old Town Florissant for a Spring shopping day at local shops! Local businesses will have specials\, discounts\, drawings\, refreshments and more. Some of the bakeries\, restaurants and pubs will also participate.\n\nEvent is from 10am to 2pm\, however many businesses hours are earlier or later.\n\nBJ's Bar & Restaurant\n\nHelfer's Pastries\n\nEdgyChic Boutique\n\nGoeke Produce\n\nOld St. Ferdinand Shrine\n\nStems Florist - With MommyDesign DIY and Pam's Photography\n\nSincerely\, Sondra and Cutting Edge Studio\n\nEndless Comics\, Games & Cards\n\nPhancy Fingers and Feet & Boutique\n\nOld Town Marketplace\n\nMade by Lia\n\nNOCO Roasting Company\n\nDooley's Florist & Gifts\n\nSweetSuite\n\nThe Abundant Lotus\n\nBe sure to click Going or Interested to receive updates on our FB page. We will post a route card on FB a few days before the event. It will list the businesses who will participate and what they will offer so you know where to go! You can also pick up a paper copy on Saturday at any of the above businesses.
X-ALT-DESC;FMTTYPE=text/html:<div class="xdj266r x11i5rnm xat24cr x1mh8g0r x1vvkbs" style="margin: 0px\; overflow-wrap: break-word\; font-family: &quot\;Segoe UI Historic&quot\;\, &quot\;Segoe UI&quot\;\, Helvetica\, Arial\, sans-serif\; color: rgb(228\, 230\, 235)\; font-size: 15px\; background-color: rgb(36\, 37\, 38)\;">Come to Historic Old Town Florissant for a Spring shopping day at local shops! Local businesses will have specials\, discounts\, drawings\, refreshments and more. Some of the bakeries\, restaurants and pubs will also participate.</div>\n\n<div class="x11i5rnm xat24cr x1mh8g0r x1vvkbs xtlvy1s" style="margin: 0.5em 0px 0px\; overflow-wrap: break-word\; font-family: &quot\;Segoe UI Historic&quot\;\, &quot\;Segoe UI&quot\;\, Helvetica\, Arial\, sans-serif\; color: rgb(228\, 230\, 235)\; font-size: 15px\; background-color: rgb(36\, 37\, 38)\;">Event is from 10am to 2pm\, however many businesses hours are earlier or later.</div>\n\n<div class="x11i5rnm xat24cr x1mh8g0r x1vvkbs xtlvy1s" style="margin: 0.5em 0px 0px\; overflow-wrap: break-word\; font-family: &quot\;Segoe UI Historic&quot\;\, &quot\;Segoe UI&quot\;\, Helvetica\, Arial\, sans-serif\; color: rgb(228\, 230\, 235)\; font-size: 15px\; background-color: rgb(36\, 37\, 38)\;">BJ&#39\;s Bar &amp\; Restaurant<br />\nHelfer&#39\;s Pastries<br />\nEdgyChic Boutique<br />\nGoeke Produce<br />\nOld St. Ferdinand Shrine<br />\nStems Florist - With MommyDesign DIY and Pam&#39\;s Photography<br />\nSincerely\, Sondra and Cutting Edge Studio<br />\nEndless Comics\, Games &amp\; Cards<br />\nPhancy Fingers and Feet &amp\; Boutique<br />\nOld Town Marketplace<br />\nMade by Lia<br />\nNOCO Roasting Company<br />\nDooley&#39\;s Florist &amp\; Gifts<br />\nSweetSuite<br />\nThe Abundant Lotus</div>\n\n<div class="x11i5rnm xat24cr x1mh8g0r x1vvkbs xtlvy1s" style="margin: 0.5em 0px 0px\; overflow-wrap: break-word\; font-family: &quot\;Segoe UI Historic&quot\;\, &quot\;Segoe UI&quot\;\, Helvetica\, Arial\, sans-serif\; color: rgb(228\, 230\, 235)\; font-size: 15px\; background-color: rgb(36\, 37\, 38)\;">Be sure to click Going or Interested to receive updates on our FB page. We will post a route card on FB a few days before the event. It will list the businesses who will participate and what they will offer so you know where to go! You can also pick up a paper copy on Saturday at any of the above businesses.</div>\n
LOCATION:Historic Old Town Florissant
UID:e.1302.21159
SEQUENCE:3
DTSTAMP:20260421T191105Z
URL:https://public.greaternorthcountychamber.com/events/details/ride-into-spring-in-old-town-florissant-21159
END:VEVENT

END:VCALENDAR
