BEGIN:VCALENDAR
VERSION:2.0
PRODID:-//ChamberMaster//Event Calendar 2.0//EN
METHOD:PUBLISH
X-PUBLISHED-TTL:P3D
REFRESH-INTERVAL:P3D
CALSCALE:GREGORIAN
BEGIN:VEVENT
DTSTART:20230105T173000Z
DTEND:20230105T180000Z
X-MICROSOFT-CDO-ALLDAYEVENT:FALSE
SUMMARY:Ribbon Cutting -- The Peach Cobbler Factory
DESCRIPTION:Join us as we cut the ribbon and welcome to Florissant....The Peach Cobbler Factory!!
X-ALT-DESC;FMTTYPE=text/html:Join us as we cut the ribbon and welcome to Florissant....The Peach Cobbler Factory!!<br />\n&nbsp\;
LOCATION:The Peach Cobbler Factory 12 Paddock Hills Plaza Shopping Center Florissant Mo 63033
UID:e.1302.20673
SEQUENCE:3
DTSTAMP:20260422T154839Z
URL:https://public.greaternorthcountychamber.com/events/details/ribbon-cutting-the-peach-cobbler-factory-20673
END:VEVENT

END:VCALENDAR
