BEGIN:VCALENDAR
VERSION:2.0
PRODID:-//ChamberMaster//Event Calendar 2.0//EN
METHOD:PUBLISH
X-PUBLISHED-TTL:P3D
REFRESH-INTERVAL:P3D
CALSCALE:GREGORIAN
BEGIN:VEVENT
DTSTART:20240924T150000Z
DTEND:20240924T190000Z
X-MICROSOFT-CDO-ALLDAYEVENT:FALSE
SUMMARY:Ribbon Cutting/Open House For The Oasis Institute
DESCRIPTION:Join us at The Oasis Institute for an open house and ribbon cutting celebration!
X-ALT-DESC;FMTTYPE=text/html:<span style="font-size:18px\;"><span style="font-family:arial\;">Join us at The Oasis Institute for an open house and ribbon cutting celebration!</span></span>
LOCATION:The Oasis Institute 500 Northwest Plaza\, Suite 425| St. Ann\, MO 63074
UID:e.1302.21214
SEQUENCE:3
DTSTAMP:20260421T120416Z
URL:https://public.greaternorthcountychamber.com/events/details/ribbon-cutting-open-house-for-the-oasis-institute-21214
END:VEVENT

END:VCALENDAR
