BEGIN:VCALENDAR
VERSION:2.0
PRODID:-//ChamberMaster//Event Calendar 2.0//EN
METHOD:PUBLISH
X-PUBLISHED-TTL:P3D
REFRESH-INTERVAL:P3D
CALSCALE:GREGORIAN
BEGIN:VEVENT
DTSTART:20240816T140000Z
DTEND:20240816T143000Z
X-MICROSOFT-CDO-ALLDAYEVENT:FALSE
SUMMARY:Ribbon Cutting Grand Re-Opening Walmart
DESCRIPTION:Join us for a grand re-opening ribbon cutting celebration on Friday August 16th at 9am at 3390 N. Hwy 67\, Florissant\, MO 63033
X-ALT-DESC;FMTTYPE=text/html:Join us for a grand re-opening ribbon cutting celebration on Friday August 16th at 9am at 3390 N. Hwy 67\, Florissant\, MO 63033
LOCATION:Wal Mart 5927 3390 N. Hwy 67\, Florissant\, MO 63033
UID:e.1302.21231
SEQUENCE:3
DTSTAMP:20260421T133302Z
URL:https://public.greaternorthcountychamber.com/events/details/ribbon-cutting-grand-re-opening-walmart-21231
END:VEVENT

END:VCALENDAR
