BEGIN:VCALENDAR
VERSION:2.0
PRODID:-//ChamberMaster//Event Calendar 2.0//EN
METHOD:PUBLISH
X-PUBLISHED-TTL:P3D
REFRESH-INTERVAL:P3D
CALSCALE:GREGORIAN
BEGIN:VEVENT
DTSTART:20240718T160000Z
DTEND:20240718T170000Z
X-MICROSOFT-CDO-ALLDAYEVENT:FALSE
SUMMARY:Ribbon Cutting for Deeply Rooted Salon LLC
DESCRIPTION:Join us for a Ribbon Cutting Grand opening celebration for Deeply Rooted Salon LLC
X-ALT-DESC;FMTTYPE=text/html:Join us for a Ribbon Cutting Grand opening celebration for Deeply Rooted Salon LLC
LOCATION:559 Howdershell rd Florissant\, MO 63031
UID:e.1302.21205
SEQUENCE:3
DTSTAMP:20260421T160214Z
URL:https://public.greaternorthcountychamber.com/events/details/ribbon-cutting-for-deeply-rooted-salon-llc-21205
END:VEVENT

END:VCALENDAR
