BEGIN:VCALENDAR
VERSION:2.0
PRODID:-//ChamberMaster//Event Calendar 2.0//EN
METHOD:PUBLISH
X-PUBLISHED-TTL:P3D
REFRESH-INTERVAL:P3D
CALSCALE:GREGORIAN
BEGIN:VEVENT
DTSTART:20241213T170000Z
DTEND:20241213T173000Z
X-MICROSOFT-CDO-ALLDAYEVENT:FALSE
SUMMARY:Ribbon Cutting For Beauty Supply Refresh
DESCRIPTION:Join us for a Ribbon Cutting Celebration for Beauty Supply Refresh on 12/13/2024 at 11am located at 440 Howdershell Rd Florissant\, Missouri 63031
X-ALT-DESC;FMTTYPE=text/html:Join us for a Ribbon Cutting Celebration for <strong><span style="color:#33cccc\;">Beauty Supply Refresh</span></strong> on 12/13/2024 at 11am located at&nbsp\;<span 0px="" 12px="" class="LuvaP" color:="" font-feature-settings:="" font-kerning:="" font-optical-sizing:="" font-size-adjust:="" font-variation-settings:="" helvetica="" margin:="" padding:="" segoe="" style="border: 0px\; font-variant-numeric: inherit\; font-variant-east-asian: inherit\; font-variant-alternates: inherit\; font-variant-position: inherit\; font-variant-emoji: inherit\; font-stretch: inherit\; font-size: 14px\; line-height: inherit\; font-family: " ui="" vertical-align:="" web="" west="">440 Howdershell Rd Florissant\, Missouri 63031</span>\n<div>&nbsp\;</div>\n
LOCATION:Beauty Supply Refresh 440 Howdershell Rd\, Florissant\, Missouri 63031
UID:e.1302.21497
SEQUENCE:3
DTSTAMP:20260421T080751Z
URL:https://public.greaternorthcountychamber.com/events/details/ribbon-cutting-for-beauty-supply-refresh-21497
END:VEVENT

END:VCALENDAR
