BEGIN:VCALENDAR
VERSION:2.0
PRODID:-//ChamberMaster//Event Calendar 2.0//EN
METHOD:PUBLISH
X-PUBLISHED-TTL:P3D
REFRESH-INTERVAL:P3D
CALSCALE:GREGORIAN
BEGIN:VEVENT
DTSTART:20241212T160000Z
DTEND:20241213T043000Z
X-MICROSOFT-CDO-ALLDAYEVENT:FALSE
SUMMARY:Ribbon Cutting First Community Credit Union
DESCRIPTION:Join us for a Ribbon Cutting Celebration for First Community Credit Union\n\non 12/12/2024 at 10am\n\nLocated at 495 Howdershell Rd. Florissant\, MO 63031
X-ALT-DESC;FMTTYPE=text/html:Join us for a Ribbon Cutting Celebration for<strong> <span style="color:#ff0033\;">First Community Credit Union</span></strong><br />\non 12/12/2024 at 10am<br />\nLocated at 495 Howdershell Rd. Florissant\, MO 63031
LOCATION:First Community Credit Union 495 Howdershell Rd. Florissant\, MO 63031
UID:e.1302.21496
SEQUENCE:3
DTSTAMP:20260421T080834Z
URL:https://public.greaternorthcountychamber.com/events/details/ribbon-cutting-first-community-credit-union-21496
END:VEVENT

END:VCALENDAR
