BEGIN:VCALENDAR
VERSION:2.0
PRODID:-//ChamberMaster//Event Calendar 2.0//EN
METHOD:PUBLISH
X-PUBLISHED-TTL:P3D
REFRESH-INTERVAL:P3D
CALSCALE:GREGORIAN
BEGIN:VEVENT
DTSTART:20240917T150000Z
DTEND:20240917T153000Z
X-MICROSOFT-CDO-ALLDAYEVENT:FALSE
SUMMARY:Ribbon Cutting Celebration Ooey Gooey Smoke Burger
DESCRIPTION:Join us for a ribbon cutting celebration for Ooey Gooey Smoke Burger on Tuesday September 17th\, 2024 at 10am located at  5906 N. Lindbergh Blvd\, Hazelwood\, MO 63042
X-ALT-DESC;FMTTYPE=text/html:Join us for a ribbon cutting celebration for Ooey Gooey Smoke Burger on Tuesday September 17th\, 2024 at 10am located at&nbsp\; 5906 N. Lindbergh Blvd\, Hazelwood\, MO 63042
LOCATION:5906 N. Lindbergh Blvd\, Hazelwood\, MO 63042
UID:e.1302.21272
SEQUENCE:3
DTSTAMP:20260421T120318Z
URL:https://public.greaternorthcountychamber.com/events/details/ribbon-cutting-celebration-ooey-gooey-smoke-burger-21272
END:VEVENT

END:VCALENDAR
