BEGIN:VCALENDAR
VERSION:2.0
PRODID:-//ChamberMaster//Event Calendar 2.0//EN
METHOD:PUBLISH
X-PUBLISHED-TTL:P3D
REFRESH-INTERVAL:P3D
CALSCALE:GREGORIAN
BEGIN:VEVENT
DTSTART:20240830T160000Z
DTEND:20240830T170000Z
X-MICROSOFT-CDO-ALLDAYEVENT:FALSE
SUMMARY:Ribbon Cutting Celebration Louie's Italian Ice
DESCRIPTION:Join us for a ribbon cutting celebration for Louie's Italian Ice on Friday August 30th at 11am at 1616 Shackelford Rd\,\n\nFlorissant\, MO 63031
X-ALT-DESC;FMTTYPE=text/html:Join us for a ribbon cutting celebration for Louie&#39\;s Italian Ice on Friday August 30th at 11am at 1616 Shackelford Rd\,<br />\nFlorissant\, MO 63031
LOCATION:1616 Shackelford Rd\,
UID:e.1302.21271
SEQUENCE:3
DTSTAMP:20260421T133553Z
URL:https://public.greaternorthcountychamber.com/events/details/ribbon-cutting-celebration-louie-s-italian-ice-21271
END:VEVENT

END:VCALENDAR
