BEGIN:VCALENDAR
VERSION:2.0
PRODID:-//ChamberMaster//Event Calendar 2.0//EN
METHOD:PUBLISH
X-PUBLISHED-TTL:P3D
REFRESH-INTERVAL:P3D
CALSCALE:GREGORIAN
BEGIN:VEVENT
DTSTART:20240919T160000Z
DTEND:20240919T170000Z
X-MICROSOFT-CDO-ALLDAYEVENT:FALSE
SUMMARY:Ribbon Cutting Celebration For OoooWeee's Sports Bar and Grill
DESCRIPTION:Join us on Thursday September 19th at 11am for a ribbon cutting celebration for OoooWeee's Sports Bar & Grill\, located at 1792 N. New Florissant Rd. Florissant\, MO 63033
X-ALT-DESC;FMTTYPE=text/html:Join us on Thursday September 19th at 11am for a ribbon cutting celebration for OoooWeee&#39\;s Sports Bar &amp\; Grill\, located at 1792 N. New Florissant Rd. Florissant\, MO 63033
LOCATION:1792 N. New Florissant Rd. Florissant\, MO 63033
UID:e.1302.21277
SEQUENCE:3
DTSTAMP:20260421T120446Z
URL:https://public.greaternorthcountychamber.com/events/details/ribbon-cutting-celebration-for-ooooweee-s-sports-bar-and-grill-21277
END:VEVENT

END:VCALENDAR
