BEGIN:VCALENDAR
VERSION:2.0
PRODID:-//ChamberMaster//Event Calendar 2.0//EN
METHOD:PUBLISH
X-PUBLISHED-TTL:P3D
REFRESH-INTERVAL:P3D
CALSCALE:GREGORIAN
BEGIN:VEVENT
DTSTART:20241001T150000Z
DTEND:20241001T153000Z
X-MICROSOFT-CDO-ALLDAYEVENT:FALSE
SUMMARY:Ribbon Cutting Celebration For MotoMart
DESCRIPTION:Please join us On Tuesday October 1st at 10 am for a Ribbon Cutting Celebration for MotoMart located at 6086 N Lindbergh Blvd\, Hazelwood\, MO 63042
X-ALT-DESC;FMTTYPE=text/html:<span style="font-size:14px\;"><span style="font-family:verdana\;">Please join us On Tuesday October 1st at 10 am for a Ribbon Cutting Celebration for MotoMart located at&nbsp\;<span class="LrzXr" style="color: var(--bbQxAb)\;">6086 N Lindbergh Blvd\, Hazelwood\, MO 63042</span></span></span>
LOCATION:6086 N Lindbergh Blvd\, Hazelwood\, MO 63042
UID:e.1302.21279
SEQUENCE:3
DTSTAMP:20260421T104318Z
URL:https://public.greaternorthcountychamber.com/events/details/ribbon-cutting-celebration-for-motomart-21279
END:VEVENT

END:VCALENDAR
