BEGIN:VCALENDAR
VERSION:2.0
PRODID:-//ChamberMaster//Event Calendar 2.0//EN
METHOD:PUBLISH
X-PUBLISHED-TTL:P3D
REFRESH-INTERVAL:P3D
CALSCALE:GREGORIAN
BEGIN:VEVENT
DTSTART:20240926T160000Z
DTEND:20240926T170000Z
X-MICROSOFT-CDO-ALLDAYEVENT:FALSE
SUMMARY:Ribbon Cutting Celebration for Mama Cassie's
DESCRIPTION:Join us for a ribbon cutting celebration for Mama Cassie's on Thursday September 26th at 11am\, located at 4200 Bonfils Dr\, Bridgeton\, MO 63044
X-ALT-DESC;FMTTYPE=text/html:Join us for a ribbon cutting celebration for Mama Cassie&#39\;s on Thursday September 26th at 11am\, located at 4200 Bonfils Dr\, Bridgeton\, MO 63044
LOCATION:4200 Bonfils Dr\, Bridgeton\, MO 63044
UID:e.1302.21278
SEQUENCE:3
DTSTAMP:20260421T120231Z
URL:https://public.greaternorthcountychamber.com/events/details/ribbon-cutting-celebration-for-mama-cassie-s-21278
END:VEVENT

END:VCALENDAR
