BEGIN:VCALENDAR
VERSION:2.0
PRODID:-//ChamberMaster//Event Calendar 2.0//EN
METHOD:PUBLISH
X-PUBLISHED-TTL:P3D
REFRESH-INTERVAL:P3D
CALSCALE:GREGORIAN
BEGIN:VEVENT
DTSTART:20240816T150000Z
DTEND:20240816T153000Z
X-MICROSOFT-CDO-ALLDAYEVENT:FALSE
SUMMARY:Ribbon Cutting Celebration for Erika Sharp Massage Therapy
DESCRIPTION:Join us for a ribbon cutting celebration for Erika Sharp Massage Therapy on Friday August 16th\, 2024 at 10am located at 525 St. Francois St.\, Florissant\, MO 63031
X-ALT-DESC;FMTTYPE=text/html:Join us for a ribbon cutting celebration for Erika Sharp Massage Therapy on Friday August 16th\, 2024 at 10am located at 525 St. Francois St.\, Florissant\, MO 63031
LOCATION:525 St. Francois St.\, Florissant\, MO 63031
UID:e.1302.21228
SEQUENCE:3
DTSTAMP:20260421T133129Z
URL:https://public.greaternorthcountychamber.com/events/details/ribbon-cutting-celebration-for-erika-sharp-massage-therapy-21228
END:VEVENT

END:VCALENDAR
