BEGIN:VCALENDAR
VERSION:2.0
PRODID:-//ChamberMaster//Event Calendar 2.0//EN
METHOD:PUBLISH
X-PUBLISHED-TTL:P3D
REFRESH-INTERVAL:P3D
CALSCALE:GREGORIAN
BEGIN:VEVENT
DTSTART:20241014T150000Z
DTEND:20241014T153000Z
X-MICROSOFT-CDO-ALLDAYEVENT:FALSE
SUMMARY:Ribbon Cutting Celebration For 7Brew Drive Thru Coffee
DESCRIPTION:Join us on Monday October 14th\, 2024 at 10am at 8180 N. Lindbergh\, Florissant\, MO 63031 For a ribbon cutting celebration!
X-ALT-DESC;FMTTYPE=text/html:Join us on Monday October 14th\, 2024 at 10am at 8180 N. Lindbergh\, Florissant\, MO 63031 For a ribbon cutting celebration!
LOCATION:8180 N. Lindbergh\, Florissant\, MO 63031
UID:e.1302.21273
SEQUENCE:3
DTSTAMP:20260421T120129Z
URL:https://public.greaternorthcountychamber.com/events/details/ribbon-cutting-celebration-for-7brew-drive-thru-coffee-21273
END:VEVENT

END:VCALENDAR
