BEGIN:VCALENDAR
VERSION:2.0
PRODID:-//ChamberMaster//Event Calendar 2.0//EN
METHOD:PUBLISH
X-PUBLISHED-TTL:P3D
REFRESH-INTERVAL:P3D
CALSCALE:GREGORIAN
BEGIN:VEVENT
DTSTART:20240907T150000Z
DTEND:20240907T170000Z
X-MICROSOFT-CDO-ALLDAYEVENT:FALSE
SUMMARY:Pooch Plunge at Bangert Pool
DESCRIPTION:Join us for Pooch Plunge at Bangert Pool on September 7th\, 2024 from 10am-12pm. $10 per dog + 1 owner $3 per each additional guest. Current Vaccination records DHLPP and Rabies are required. All children under the age of 18 must be accompanied by a parent. Humans must sign waiver and must clean up after their dogs.
X-ALT-DESC;FMTTYPE=text/html:Join us for Pooch Plunge at Bangert Pool on September 7th\, 2024 from 10am-12pm. $10 per dog + 1 owner $3 per each additional guest. Current Vaccination records DHLPP and Rabies are required. All children under the age of 18 must be accompanied by a parent. Humans must sign waiver and must clean up after their dogs.
LOCATION:Bangert Pool 275 S New Florissant Rd\, Florissant\, MO 63031
UID:e.1302.21239
SEQUENCE:3
DTSTAMP:20260421T120053Z
URL:https://public.greaternorthcountychamber.com/events/details/pooch-plunge-at-bangert-pool-21239
END:VEVENT

END:VCALENDAR
