BEGIN:VCALENDAR
VERSION:2.0
PRODID:-//ChamberMaster//Event Calendar 2.0//EN
METHOD:PUBLISH
X-PUBLISHED-TTL:P3D
REFRESH-INTERVAL:P3D
CALSCALE:GREGORIAN
BEGIN:VEVENT
DTSTART:20240817T190000Z
DTEND:20240817T230000Z
X-MICROSOFT-CDO-ALLDAYEVENT:FALSE
SUMMARY:OVP + SLDC Kickback
DESCRIPTION:St. Louis Development Corporation (SLDC) is joining forces with the City of St. Louis Office of Violence Prevention (OVP) to host a day of fun\, food\, music and activities for the community in the outdoor pavilion at the Northside Economic Empowerment Center (NEEC)!\n\nThis family friendly event will feature community organizations providing:\n\n\n	\n	  Violence prevention resources\n	\n	\n	  Behavioral health resources\n	\n	\n	  Conflict mediation/de-escalation resources\n	\n	\n	  Trauma Resources\n	\n	\n	  Youth Programming\n	\n\n\nEVERYONE WELCOME!
X-ALT-DESC;FMTTYPE=text/html:<p class="preFade fadeIn" style="margin: 1rem 0px\; line-height: var(--body-font-line-height)\; transition-property: opacity\; overflow-wrap: break-word\; color: rgb(83\, 86\, 90)\; font-family: Poppins\; font-size: 16px\; white-space-collapse: preserve\; transition-timing-function: ease\; transition-duration: 0.9s\; transition-delay: 0.313636s\; opacity: 1 !important\;">St. Louis Development Corporation (SLDC) is joining forces with the City of St. Louis Office of Violence Prevention (OVP) to host a day of fun\, food\, music and activities for the community in the outdoor pavilion at the Northside Economic Empowerment Center (NEEC)!</p>\n\n<p class="preFade fadeIn" style="margin: 1rem 0px\; line-height: var(--body-font-line-height)\; transition-property: opacity\; overflow-wrap: break-word\; color: rgb(83\, 86\, 90)\; font-family: Poppins\; font-size: 16px\; white-space-collapse: preserve\; transition-timing-function: ease\; transition-duration: 0.9s\; transition-delay: 0.327273s\; opacity: 1 !important\;">This family friendly event will feature community organizations providing:</p>\n\n<ul data-rte-list="default" style="overflow-wrap: break-word\; color: rgb(83\, 86\, 90)\; font-family: Poppins\; font-size: 16px\;">\n	<li style="list-style-type: none\; overflow-wrap: break-word\;">\n	<p class="preFade fadeIn" style="margin: 0.5em 0px\; line-height: var(--body-font-line-height)\; transition-property: opacity\; overflow-wrap: break-word\; white-space-collapse: preserve\; transition-timing-function: ease\; transition-duration: 0.9s\; transition-delay: 0.340909s\; opacity: 1 !important\;">&#65279\;&#65279\;Violence prevention resources</p>\n	</li>\n	<li style="list-style-type: none\; overflow-wrap: break-word\;">\n	<p class="preFade fadeIn" style="margin: 0.5em 0px\; line-height: var(--body-font-line-height)\; transition-property: opacity\; overflow-wrap: break-word\; white-space-collapse: preserve\; transition-timing-function: ease\; transition-duration: 0.9s\; transition-delay: 0.354545s\; opacity: 1 !important\;">&#65279\;&#65279\;Behavioral health resources</p>\n	</li>\n	<li style="list-style-type: none\; overflow-wrap: break-word\;">\n	<p class="preFade fadeIn" style="margin: 0.5em 0px\; line-height: var(--body-font-line-height)\; transition-property: opacity\; overflow-wrap: break-word\; white-space-collapse: preserve\; transition-timing-function: ease\; transition-duration: 0.9s\; transition-delay: 0.368182s\; opacity: 1 !important\;">&#65279\;&#65279\;Conflict mediation/de-escalation resources</p>\n	</li>\n	<li style="list-style-type: none\; overflow-wrap: break-word\;">\n	<p class="preFade fadeIn" style="margin: 0.5em 0px\; line-height: var(--body-font-line-height)\; transition-property: opacity\; overflow-wrap: break-word\; white-space-collapse: preserve\; transition-timing-function: ease\; transition-duration: 0.9s\; transition-delay: 0.381818s\; opacity: 1 !important\;">&#65279\;&#65279\;Trauma Resources</p>\n	</li>\n	<li style="list-style-type: none\; overflow-wrap: break-word\;">\n	<p class="preFade fadeIn" style="margin: 0.5em 0px\; line-height: var(--body-font-line-height)\; transition-property: opacity\; overflow-wrap: break-word\; white-space-collapse: preserve\; transition-timing-function: ease\; transition-duration: 0.9s\; transition-delay: 0.395455s\; opacity: 1 !important\;">&#65279\;&#65279\;Youth Programming</p>\n	</li>\n</ul>\n\n<p class="preFade fadeIn" style="margin: 1rem 0px 0px\; line-height: var(--body-font-line-height)\; transition-property: opacity\; overflow-wrap: break-word\; color: rgb(83\, 86\, 90)\; font-family: Poppins\; font-size: 16px\; white-space-collapse: preserve\; transition-timing-function: ease\; transition-duration: 0.9s\; transition-delay: 0.409091s\; opacity: 1 !important\;">EVERYONE WELCOME!</p>\n
LOCATION:NEEC4248 Cottage Avenue\, St. Louis\, MO\, 63113 United States
UID:e.1302.21229
SEQUENCE:3
DTSTAMP:20260421T132955Z
URL:https://public.greaternorthcountychamber.com/events/details/ovp-sldc-kickback-21229
END:VEVENT

END:VCALENDAR
