BEGIN:VCALENDAR
VERSION:2.0
PRODID:-//ChamberMaster//Event Calendar 2.0//EN
METHOD:PUBLISH
X-PUBLISHED-TTL:P3D
REFRESH-INTERVAL:P3D
CALSCALE:GREGORIAN
BEGIN:VEVENT
DTSTART:20220331T150000Z
DTEND:20220331T153000Z
X-MICROSOFT-CDO-ALLDAYEVENT:FALSE
SUMMARY:Onyx Ribbon Cutting
DESCRIPTION:Join us for a Ribbon Cutting for a new business!
X-ALT-DESC;FMTTYPE=text/html:Join us for a Ribbon Cutting for a new business!
LOCATION:Onyx Business & Print Center 611 S. Florissant Rd. Ferguson\, MO 63135
UID:e.1302.20536
SEQUENCE:3
DTSTAMP:20260424T175627Z
URL:https://public.greaternorthcountychamber.com/events/details/onyx-ribbon-cutting-20536
END:VEVENT

END:VCALENDAR
