BEGIN:VCALENDAR
VERSION:2.0
PRODID:-//ChamberMaster//Event Calendar 2.0//EN
METHOD:PUBLISH
X-PUBLISHED-TTL:P3D
REFRESH-INTERVAL:P3D
CALSCALE:GREGORIAN
BEGIN:VEVENT
DTSTART:20240725T170000Z
DTEND:20240725T210000Z
X-MICROSOFT-CDO-ALLDAYEVENT:FALSE
SUMMARY:Oak Street Health Neighborhood BBQ
DESCRIPTION:Join Oak Street Health for a neighborhood BBQ. Enjoy friendship\, food\, and music as we celebrate community together!
X-ALT-DESC;FMTTYPE=text/html:Join Oak Street Health for a neighborhood BBQ. Enjoy friendship\, food\, and music as we celebrate community together!
LOCATION:Dellwood Recreation Center\, 10266 West Florissant\, St. Louis\, MO 63169
UID:e.1302.21197
SEQUENCE:3
DTSTAMP:20260421T160507Z
URL:https://public.greaternorthcountychamber.com/events/details/oak-street-health-neighborhood-bbq-21197
END:VEVENT

END:VCALENDAR
