BEGIN:VCALENDAR
VERSION:2.0
PRODID:-//ChamberMaster//Event Calendar 2.0//EN
METHOD:PUBLISH
X-PUBLISHED-TTL:P3D
REFRESH-INTERVAL:P3D
CALSCALE:GREGORIAN
BEGIN:VEVENT
DTSTART:20240723T170000Z
DTEND:20240723T210000Z
X-MICROSOFT-CDO-ALLDAYEVENT:FALSE
SUMMARY:Oak Street Health Neighborhood BBQ
DESCRIPTION:Join Oak Street Health for a neighborhood BBQ. Enjoy friendship\, food\, and music as we celebrate community together. Light refreshments will be served.
X-ALT-DESC;FMTTYPE=text/html:Join Oak Street Health for a neighborhood BBQ. Enjoy friendship\, food\, and music as we celebrate community together. Light refreshments will be served.
LOCATION:North County Rec Complex 2577 Redman Rd St. Louis\, MO 63136
UID:e.1302.21196
SEQUENCE:3
DTSTAMP:20260421T160425Z
URL:https://public.greaternorthcountychamber.com/events/details/oak-street-health-neighborhood-bbq-21196
END:VEVENT

END:VCALENDAR
