BEGIN:VCALENDAR
VERSION:2.0
PRODID:-//ChamberMaster//Event Calendar 2.0//EN
METHOD:PUBLISH
X-PUBLISHED-TTL:P3D
REFRESH-INTERVAL:P3D
CALSCALE:GREGORIAN
BEGIN:VEVENT
DTSTART:20240726T230000Z
DTEND:20240727T030000Z
X-MICROSOFT-CDO-ALLDAYEVENT:FALSE
SUMMARY:North County Uncorked A Roast & Toast Celebration
DESCRIPTION:North County Uncorked A Roast & Toast Celebration In Honor of Florissant Mayor Timothy Lowery. Enjoy a four course dinner\, wine pairings\, silent auction\, and program.
X-ALT-DESC;FMTTYPE=text/html:North County Uncorked A Roast &amp\; Toast Celebration In Honor of Florissant Mayor Timothy Lowery. Enjoy a four course dinner\, wine pairings\, silent auction\, and program.&nbsp\;
LOCATION:Marriot St. Louis Airport 10700 Pear Tree Lane
UID:e.1302.21167
SEQUENCE:3
DTSTAMP:20260421T160202Z
URL:https://public.greaternorthcountychamber.com/events/details/north-county-uncorked-a-roast-toast-celebration-21167
END:VEVENT

END:VCALENDAR
