BEGIN:VCALENDAR
VERSION:2.0
PRODID:-//ChamberMaster//Event Calendar 2.0//EN
METHOD:PUBLISH
X-PUBLISHED-TTL:P3D
REFRESH-INTERVAL:P3D
CALSCALE:GREGORIAN
BEGIN:VEVENT
DTSTART:20220513T140000Z
DTEND:20220513T150000Z
X-MICROSOFT-CDO-ALLDAYEVENT:FALSE
SUMMARY:New Member Meet & Greet
DESCRIPTION:Are you a newish member to the chamber and want to get to know us a bit better? Join us for our new member Meet & Greet!
X-ALT-DESC;FMTTYPE=text/html:Are you a newish member to the chamber and want to get to know us a bit better? Join us for our new member Meet &amp\; Greet!
LOCATION:Chamber Office 420 W Washington St (63031)
UID:e.1302.20586
SEQUENCE:3
DTSTAMP:20260424T162320Z
URL:https://public.greaternorthcountychamber.com/events/details/new-member-meet-greet-20586
END:VEVENT

END:VCALENDAR
