BEGIN:VCALENDAR
VERSION:2.0
PRODID:-//ChamberMaster//Event Calendar 2.0//EN
METHOD:PUBLISH
X-PUBLISHED-TTL:P3D
REFRESH-INTERVAL:P3D
CALSCALE:GREGORIAN
BEGIN:VEVENT
DTSTART:20240915T140000Z
DTEND:20240915T190000Z
X-MICROSOFT-CDO-ALLDAYEVENT:FALSE
SUMMARY:NCPBA 1st Annual Guardian Clay Shoot Fundraiser - 9/15
DESCRIPTION:Aim\, Shoot\, and Support Two Great Causes\n\n\nYou're invited to the 1st Annual Guardian's Clay Shoot on behalf of the NCPBA and The Backstoppers!\n\nWhether you're a seasoned pro or a first-time shooter\, this event is perfect for all skill levels. Grab your gear\, bring your friends\, and get ready to test your aim on the range. Don't miss out on this exciting opportunity to support a great cause and enjoy a day outdoors.\n\nDetails: The Shoot will be a 4 person\, 54 target scramble. Lunch and Snacks will be provided\, ATVs and carts will not. Register by July 31st to save 40$ per foursome.\n\nWe also welcome supporting organizations and individuals to sponsor the event with one of six available packages. To learn more and register for the event\, click below.\n\nSee you there!\n\n\n\nSIGN ME UP!
X-ALT-DESC;FMTTYPE=text/html:<h2>Aim\, Shoot\, and Support Two Great Causes</h2>\n\n<div>\n<p>You&#39\;re invited to the 1st Annual Guardian&#39\;s Clay Shoot on behalf of the NCPBA and&nbsp\;<a href="https://backstoppers.org/" style="box-sizing: inherit\; color: rgba(var(--color-link)\,var(--alpha-link))\; text-underline-offset: 0.3rem\; text-decoration-thickness: 0.1rem\; transition: text-decoration-thickness var(--duration-short) ease\;" title="The Backstoppers home website">The Backstoppers</a>!</p>\n\n<p>Whether you&#39\;re a seasoned pro or a first-time shooter\, this event is perfect for all skill levels. Grab your gear\, bring your friends\, and get ready to test your aim on the range. Don&#39\;t miss out on this exciting opportunity to support a great cause and enjoy a day outdoors.</p>\n\n<p><strong>Details</strong>: The Shoot will be a 4 person\, 54 target scramble. Lunch and Snacks will be provided\, ATVs and carts will not. Register by July 31st to save 40$ per foursome.</p>\n\n<p>We also welcome supporting organizations and individuals to sponsor the event with one of six available packages. To learn more and register for the event\, click below.</p>\n\n<p>See you there!<br />\n<br />\n<a href="https://www.eventbrite.com/e/1st-annual-guardians-clay-shoot-tickets-893866527847?aff=oddtdtcreator"><strong>SIGN ME UP!</strong></a></p>\n</div>\n
LOCATION:Blackhawk Valley Hunting 1259 Brevator Road Old Monroe\, MO 63369
UID:e.1302.21217
SEQUENCE:3
DTSTAMP:20260421T133533Z
URL:https://public.greaternorthcountychamber.com/events/details/ncpba-1st-annual-guardian-clay-shoot-fundraiser-9-15-21217
END:VEVENT

END:VCALENDAR
