BEGIN:VCALENDAR
VERSION:2.0
PRODID:-//ChamberMaster//Event Calendar 2.0//EN
METHOD:PUBLISH
X-PUBLISHED-TTL:P3D
REFRESH-INTERVAL:P3D
CALSCALE:GREGORIAN
BEGIN:VEVENT
DTSTART:20220609T180000Z
DTEND:20220609T190000Z
X-MICROSOFT-CDO-ALLDAYEVENT:FALSE
SUMMARY:NCI Ribbon Cutting
DESCRIPTION:Join us as we celebrate NCI's new location with a Ribbon Cutting!
X-ALT-DESC;FMTTYPE=text/html:Join us as we celebrate NCI&#39\;s new location with a Ribbon Cutting!
LOCATION:Location: Regional Center of Education and Work Building\, Suite 11 (8225 Florissant Road\, Suite 11\, St. Louis\, MO\, 63121)
UID:e.1302.20589
SEQUENCE:3
DTSTAMP:20260424T131636Z
URL:https://public.greaternorthcountychamber.com/events/details/nci-ribbon-cutting-20589
END:VEVENT

END:VCALENDAR
