BEGIN:VCALENDAR
VERSION:2.0
PRODID:-//ChamberMaster//Event Calendar 2.0//EN
METHOD:PUBLISH
X-PUBLISHED-TTL:P3D
REFRESH-INTERVAL:P3D
CALSCALE:GREGORIAN
BEGIN:VEVENT
DTSTART:20240903T150000Z
DTEND:20240903T220000Z
X-MICROSOFT-CDO-ALLDAYEVENT:FALSE
SUMMARY:NCI Annual Golf Tournament
DESCRIPTION:Join us for North County Inc. Annual Golf Tournament on September 3\, 2024 at Glen Echo Country Club. Registration Begins at 10am and shotgun start at 11am.
X-ALT-DESC;FMTTYPE=text/html:<span style="font-size:18px\;">Join us for North County Inc. Annual Golf Tournament on September 3\, 2024 at Glen Echo Country Club. Registration Begins at 10am and shotgun start at 11am.</span>&nbsp\;
LOCATION:Glen Echo Country Club 3401 Lucas and Hunt Rd
UID:e.1302.21232
SEQUENCE:3
DTSTAMP:20260421T120005Z
URL:https://public.greaternorthcountychamber.com/events/details/nci-annual-golf-tournament-21232
END:VEVENT

END:VCALENDAR
