BEGIN:VCALENDAR
VERSION:2.0
PRODID:-//ChamberMaster//Event Calendar 2.0//EN
METHOD:PUBLISH
X-PUBLISHED-TTL:P3D
REFRESH-INTERVAL:P3D
CALSCALE:GREGORIAN
BEGIN:VEVENT
DTSTART:20260809T190000Z
DTEND:20260809T230000Z
X-MICROSOFT-CDO-ALLDAYEVENT:FALSE
SUMMARY:Music Bingo
DESCRIPTION:??? Thru the Decades: Music Bingo ???\n\nGet ready for a high-energy afternoon of music\, memories\, and meaningful impact! Join My Life In A Bag Foundation for Thru the Decades: Music Bingo\, hosted by the one and only Phil the Trivia Guy.\n\nFrom the 70s to the 90s\, we're spinning the hits that defined generations   and turning them into 10 exciting rounds of music bingo\, complete with cash prizes and raffles. Whether you're a disco lover\, an 80s pop fanatic\, or a 90s R&B enthusiast\, this event is designed to bring the fun while supporting a powerful mission.\n\nEvery ticket purchased helps us continue restoring dignity to children in foster care\, residential group homes\, and youth aging out   ensuring they receive luggage\, essentials\, and support when they need it most.\n\nThis isn't just bingo. It's music\, community\, and purpose   all in one unforgettable afternoon. ????
X-ALT-DESC;FMTTYPE=text/html:<p>??? <strong>Thru the Decades: Music Bingo</strong> ???</p>\n\n<p>Get ready for a high-energy afternoon of music\, memories\, and meaningful impact! Join <strong>My Life In A Bag Foundation</strong> for <em>Thru the Decades: Music Bingo</em>\, hosted by the one and only <strong>Phil the Trivia Guy</strong>.</p>\n\n<p>From the 70s to the 90s\, we&rsquo\;re spinning the hits that defined generations &mdash\; and turning them into 10 exciting rounds of music bingo\, complete with cash prizes and raffles. Whether you&rsquo\;re a disco lover\, an 80s pop fanatic\, or a 90s R&amp\;B enthusiast\, this event is designed to bring the fun while supporting a powerful mission.</p>\n\n<p>Every ticket purchased helps us continue restoring dignity to children in foster care\, residential group homes\, and youth aging out &mdash\; ensuring they receive luggage\, essentials\, and support when they need it most.</p>\n\n<p>This isn&rsquo\;t just bingo. It&rsquo\;s music\, community\, and purpose &mdash\; all in one unforgettable afternoon. ????</p>\n
LOCATION:?? Machinist Hall Bridgeton\, MO
UID:e.1302.23635
SEQUENCE:3
DTSTAMP:20260421T113710Z
URL:https://public.greaternorthcountychamber.com/events/details/music-bingo-23635
END:VEVENT

END:VCALENDAR
